Workbook
Name ExportMainExcel: 'Carloadings (Item 11)'!$A$8:$DC$30

Sheet Rail Service (Item Nos. 1-6)
A1: EP 724 (Sub-No. 5) - U.S. Rail Service Issues - Performance Data Reporting
D2: OMB Control No. 2140-0033 | E2: Expiration Date: Permanent Order
A3: Railroad: UP | B3: Year: 2026 | C3: Reporting Week: | D3: Date Week Began: | E3: 46249
D4: Date Week Ended: | E4: =E3+6 -> 46255
A5: 1. Average Train Speed by Train Type and Overall System Average Train Speed reported in Miles per Hour (MPH)
A6: Intermodal | B6: 29.8
A7: Grain unit | B7: 22.6
A8: Coal unit | B8: 25
A9: Automotive unit | B9: 23.3
A10: Crude oil unit | B10: 23.2
A11: Ethanol unit | B11: 20.1
A12: Manifest | B12: 21.4
A13: System | B13: 23.9
A15: 2. Weekly Average Terminal Dwell Time Excluding Cars on Run-Through Trains Measured in Hours for 10 Largest Terminals and Overall System in Terms of Railcars Processed
A16: Terminal | B16: Terminal Dwell Time
A17: 1 Chicago (Proviso), IL | B17: 21.4
A18: 2 Fort Worth, TX | B18: 17.9
A19: 3 Houston (Englewood), TX | B19: 18.7
A20: 4 Livonia, LA | B20: 21.2
A21: 5 North Little Rock, AR | B21: 20.8
A22: 6 North Platte West, NE | B22: 19.1
A23: 7 Pine Bluff, AR | B23: 22.7
A24: 8 Roseville, CA | B24: 19.8
A25: 9 Santa Teresa, NM | B25: 25.7
A26: 10 West Colton, CA | B26: 22.6
A27: System | B27: 19.8
A29: 3. Weekly Average Cars On Line by Car Type
A30: Box | B30: 18229
A31: Covered hopper | B31: 118788
A32: Gondola | B32: 14880
A33: Intermodal | B33: 15717
A34: Multilevel (automotive) | B34: 13830
A35: Open hopper | B35: 28529
A36: Tank | B36: 83768
A37: Other | B37: 10861
A38: Total | B38: =SUM(B30:B37) -> 304602
A40: 4. Weekly Average Dwell Time at Origin for Unit Train Shipments Measured in Hours
A41: Grain unit | B41: 26.4
A42: Coal unit | B42: 5.3
A43: Automotive unit | B43: 13.3
...

Sheet Grain Loadings (Item No. 7)
A1: EP 724 (Sub-No. 5) - U.S. Rail Service Issues - Performance Data Reporting
D2: OMB Control No. 2140-0033 | E2: Expiration Date: Permanent Order
A3: ='Rail Service (Item Nos. 1-6)'!A3 -> Railroad: UP | B3: ='Rail Service (Item Nos. 1-6)'!B3:B4 -> Year: 2026 | C3: ='Rail Service (Item Nos. 1-6)'!C3 -> Reporting Week: | D3: Date Week Began: | E3: ='Rail Service (Item Nos. 1-6)'!E3 -> 46249
D4: Date Week Ended: | E4: ='Rail Service (Item Nos. 1-6)'!E4 -> 46255
A6: 7. Weekly total grain cars loaded and billed, reported by State, aggregated for the following Standard Transportation Commodity Codes (STCCs): 01131 (barley), 01132 (corn), 01133 (oats), 01135 (rye), 01136 (sorghum grains), 01137 (wheat), 01139 (grain, not elsewhere classified), 01144 (soybeans), 01341 (beans, dry), 01342 (peas, dry), and 01343 (cowpeas, lentils, or lupines). “Total grain cars loaded and billed” includes cars in shuttle service; dedicated train service; reservation, lottery, open and other ordering systems; and, private cars. Additionally, please separately report the total cars loaded and billed in shuttle service (or dedicated train service) versus total cars loaded and billed in all other ordering systems, including private cars. Instruction: Please enter "0" if no data is being reported for a field.
A8: State | B8: Total Grain Cars Loaded and Billed For All Ordering Systems | C8: Total Grain Cars Loaded and Billed For Shuttle / Dedicated Train Service Ordering Systems | D8: Total Grain Cars Loaded and Billed For Ordering Systems Other Than Shuttle / Dedicated Train Service
A9: AL | B9: =SUM(C9:D9) -> 0 | C9: 0 | D9: 0
A10: AR | B10: =SUM(C10:D10) -> 0 | C10: 0 | D10: 0
A11: AZ | B11: =SUM(C11:D11) -> 4 | C11: 0 | D11: 4
A12: CA | B12: =SUM(C12:D12) -> 16 | C12: 0 | D12: 16
A13: CO | B13: =SUM(C13:D13) -> 22 | C13: 0 | D13: 22
A14: CT | B14: =SUM(C14:D14) -> 0 | C14: 0 | D14: 0
A15: DE | B15: =SUM(C15:D15) -> 0 | C15: 0 | D15: 0
A16: FL | B16: =SUM(C16:D16) -> 0 | C16: 0 | D16: 0
A17: GA | B17: =SUM(C17:D17) -> 0 | C17: 0 | D17: 0
A18: IA | B18: =SUM(C18:D18) -> 1163 | C18: 860 | D18: 303
A19: ID | B19: =SUM(C19:D19) -> 312 | C19: 118 | D19: 194
A20: IL | B20: =SUM(C20:D20) -> 400 | C20: 327 | D20: 73
... A56: WY | B56: =SUM(C56:D56) -> 0 | C56: 0 | D56: 0
A57: Total | B57: =SUM(B9:B56) -> 6498 | C57: =SUM(C9:C56) -> 3078 | D57: =SUM(D9:D56) -> 3420

Sheet Grain Car Order (Item No. 8)
A1: EP 724 (Sub-No. 5) - U.S. Rail Service Issues - Performance Data Reporting
D2: OMB Control No. 2140-0033 | E2: Expiration Date: Permanent Order
A3: ='Rail Service (Item Nos. 1-6)'!A3 -> Railroad: UP | B3: ='Rail Service (Item Nos. 1-6)'!B3:B4 -> Year: 2026 | C3: ='Rail Service (Item Nos. 1-6)'!C3 -> Reporting Week: | D3: ='Rail Service (Item Nos. 1-6)'!E3 -> 46249
D4: ='Rail Service (Item Nos. 1-6)'!E4 -> 46255
A6: 8. For the aggregated STCCs in Request No. 7, report by State the following: (a) the running total number of orders placed; (b) the running total of orders filled; and (c) for orders which have not been filled, the number of orders that are 1-10 days past due and 11+ days past due.
A8: State | B8: a. Running Total Number of Orders Placed | C8: b. Running Total of Orders Filled | D8: c. Unfilled Orders
D9: Number of Orders That Are 1-10 Days Past Due | E9: Number of Orders That Are 11+ Days Past Due
A10: AL | B10: 0 | C10: 0 | D10: 0 | E10: 0
A11: AR | B11: 8 | C11: 14 | D11: 0 | E11: 1
A12: AZ | B12: 0 | C12: 2 | D12: 0 | E12: 0
A13: CA | B13: 18 | C13: 11 | D13: 1 | E13: 0
A14: CO | B14: 13 | C14: 5 | D14: 0 | E14: 0
A15: CT | B15: 0 | C15: 0 | D15: 0 | E15: 0
A16: DE | B16: 0 | C16: 0 | D16: 0 | E16: 0
A17: FL | B17: 0 | C17: 0 | D17: 0 | E17: 0
A18: GA | B18: 0 | C18: 0 | D18: 0 | E18: 0
A19: IA | B19: 198 | C19: 98 | D19: 5 | E19: 1
A20: ID | B20: 223 | C20: 341 | D20: 29 | E20: 12
A21: IL | B21: 91 | C21: 104 | D21: 9 | E21: 0
... A57: WY | B57: 0 | C57: 12 | D57: 0 | E57: 0
A58: TOTAL | B58: =SUM(B10:B57) -> 1402 | C58: =SUM(C10:C57) -> 1721 | D58: =SUM(D10:D57) -> 91 | E58: =SUM(E10:E57) -> 35

Sheet Coal & Grain Plans (Items 9-10)
A1: EP 724 (Sub-No. 5) - U.S. Rail Service Issues - Performance Data Reporting
D2: OMB Control No. 2140-0033 | E2: Expiration Date: Permanent Order
A3: ='Rail Service (Item Nos. 1-6)'!A3 -> Railroad: UP | B3: ='Rail Service (Item Nos. 1-6)'!B3:B4 -> Year: 2026 | C3: ='Rail Service (Item Nos. 1-6)'!C3 -> Reporting Week: | D3: Date Week Began: | E3: ='Rail Service (Item Nos. 1-6)'!E3 -> 46249
D4: Date Week Ended: | E4: ='Rail Service (Item Nos. 1-6)'!E4 -> 46255
A7: 9. Weekly Average Coal Unit Train Loadings or Carloadings versus Planned Loadings by Coal Production Region
A8: Region | B8: Loadings Plan | C8: Loadings Average
A9: Powder River Basin | B9: 15 | C9: 13.7
A10: Uinta Basin | B10: 2.3 | C10: 2.4
A11: Other | B11: NR | C11: 1
A16: If "Loadings Plan" data is not being reported, please insert "NR" in the appropriate column and briefly explain the reason in the space provided below:
A17: Other includes Illinois Basin and Southern Wyoming. Planned loadings for Other not reported due to small number of producers.
A19: 10. Average Grain Shuttle Turns per Month By Region And System versus Planned Turns Per Month (Applicable to Class I Carriers Operating a Grain Shuttle Program), updated to reflect the month of Jul
A20: Region (Please Specify Destination Region) | B20: Average Turns | C20: Planned Turns
A21: AR/TX | B21: 3.4 | C21: 2.5
A22: CA/AZ | B22: 2.7 | C22: 2.5
A23: Gulf | B23: 3 | C23: 2.5
A24: Mexico | B24: 1.5 | C24: 1.5
A25: PNW | B25: 2.9 | C25: 2
A30: System | B30: 2.6 | C30: 2.5

Sheet Carloadings (Item 11)
A1: EP 724 (Sub-No. 5) - U.S. Rail Service Issues - Performance Data Reporting
D2: OMB Control No. 2140-0033 | E2: Expiration Date: Permanent Order
A3: ='Rail Service (Item Nos. 1-6)'!A3 -> Railroad: UP | B3: ='Rail Service (Item Nos. 1-6)'!B3:B4 -> Year: 2026 | C3: ='Rail Service (Item Nos. 1-6)'!C3 -> Reporting Week: | D3: Date Week Began: | E3: ='Rail Service (Item Nos. 1-6)'!E3+1 -> 46250
D4: Date Week Ended: | E4: ='Rail Service (Item Nos. 1-6)'!E4+1 -> 46256
A6: 11. i. Weekly Originated and Received Carloads by 22 Commodity Categories
A8: Railroad | B8: Commodity Group | C8: Commodity Group Code | D8: Originated | E8: Received
B9: Chemicals | C9: A | D9: 18909 | E9: 2845
B10: Coal | C10: B | D10: 15323 | E10: 15
B11: Coke | C11: C | D11: 1066 | E11: 109
B12: Crushed Stone, Sand and Gravel | C12: D | D12: 8041 | E12: 107
B13: Farm Products except Grain | C13: E | D13: 152 | E13: 114
B14: Food and Kindred Products | C14: F | D14: 2573 | E14: 2032
B15: Grain Mill Products | C15: G | D15: 3441 | E15: 304
B16: Grain | C16: H | D16: 5712 | E16: 1238
B17: Iron and Steel Scrap | C17: I | D17: 1042 | E17: 115
B18: Lumber and Wood Products | C18: J | D18: 1468 | E18: 659
B19: Metallic Ores | C19: K | D19: 207 | E19: 70
B20: Metals | C20: L | D20: 1527 | E20: 1654
... B30: Trailers | C30: V | D30: 1446 | E30: 5
A32: 11. ii. Weekly Originated and Received Carloads of Fertilizer (STCC Codes: 2871236, 2871235, 2871238, 2819454, 2812534, 2818426, 2819815, 2818170, 2871315, 2818142, 2818146, 2871244, 2819173, and 2871451)
A34: Railroad | B34: Commodity Group | C34: Commodity Group Code | D34: Originated | E34: Received
B35: Fertilizer | C35: A | D35: 1461 | E35: 449

Sheet Item 11 - lookup
A2: Current Template | B2: Prior Template | C2: Prior Template Desc
A3: Grain | B3: 1 | C3: Grain
A4: Farm Products except Grain | B4: 2 | C4: Farm Products, Except Grain
A5: Metallic Ores | B5: 3 | C5: Metallic Ores
A6: Coal | B6: 4 | C6: Coal
A7: Crushed Stone, Sand and Gravel | B7: 5 | C7: Crushed Stone, Gravel & Sand
A8: Non Metallic Minerals | B8: 6 | C8: Nonmetallic Minerals, N.E.C.
A9: Grain Mill Products | B9: 7 | C9: Grain Mill Products
A10: Food and Kindred Products | B10: 8 | C10: Food & Kindred Products, N.E.C.
A11: Primary Forest Products | B11: 9 | C11: Primary Forest Products
A12: Lumber and Wood Products | B12: 10 | C12: Lumber & Wood Prod., N.E.C., Except Furniture
A13: Pulp, Paper and Allied Products | B13: 11 | C13: Pulp, Paper & Allied Products
... A25: Fertilizer | B25: 23 | C25: Fertilizer
B27: TC | C27: TOTAL CARLOADS
B28: IU | C28: TOTAL INTERMODAL
